BEGIN:VCALENDAR
VERSION:2.0
PRODID:-//The Heron Theatre - Beetham - ECPv6.15.12.2//NONSGML v1.0//EN
CALSCALE:GREGORIAN
METHOD:PUBLISH
X-ORIGINAL-URL:https://theherontheatre.com
X-WR-CALDESC:Events for The Heron Theatre - Beetham
REFRESH-INTERVAL;VALUE=DURATION:PT1H
X-Robots-Tag:noindex
X-PUBLISHED-TTL:PT1H
BEGIN:VTIMEZONE
TZID:Europe/London
BEGIN:DAYLIGHT
TZOFFSETFROM:+0000
TZOFFSETTO:+0100
TZNAME:BST
DTSTART:20240331T010000
END:DAYLIGHT
BEGIN:STANDARD
TZOFFSETFROM:+0100
TZOFFSETTO:+0000
TZNAME:GMT
DTSTART:20241027T010000
END:STANDARD
BEGIN:DAYLIGHT
TZOFFSETFROM:+0000
TZOFFSETTO:+0100
TZNAME:BST
DTSTART:20250330T010000
END:DAYLIGHT
BEGIN:STANDARD
TZOFFSETFROM:+0100
TZOFFSETTO:+0000
TZNAME:GMT
DTSTART:20251026T010000
END:STANDARD
BEGIN:DAYLIGHT
TZOFFSETFROM:+0000
TZOFFSETTO:+0100
TZNAME:BST
DTSTART:20260329T010000
END:DAYLIGHT
BEGIN:STANDARD
TZOFFSETFROM:+0100
TZOFFSETTO:+0000
TZNAME:GMT
DTSTART:20261025T010000
END:STANDARD
END:VTIMEZONE
BEGIN:VEVENT
DTSTART;TZID=Europe/London:20251003T193000
DTEND;TZID=Europe/London:20251003T220000
DTSTAMP:20260423T102301
CREATED:20250715T181254Z
LAST-MODIFIED:20250718T162700Z
UID:7040-1759519800-1759528800@theherontheatre.com
SUMMARY:A Complete Unknown
DESCRIPTION:FilmsLes Liaisons Dangereuse Running Time: 3h (Inc interval) Rated: 15 Friday 21st August 2026\, 7:30pm BAFTA award-winner Lesley Manville joins Aidan Turner in a striking new staging adaptation of the classic novel\, where among the glittering salons of the super-rich\, one misstep can mean ruin. Marquise de Merteuil and Vicomte de Valmont turn seduction into strategy and weaponise desire\, but when their alliance collapses into rivalry\, it threatens to destroy everyone in their path. 								\n				\n					\n		\n				\n			\n						\n				\n																														\n				\n					\n		\n					\n		\n				\n						\n					\n			\n						\n				\n									Ticket Prices								\n				\n					\n		\n					\n		\n				\n						\n					\n			\n						\n				\n									Standard: £7.50								\n				\n					\n		\n				\n			\n						\n				\n									Member: £6.00								\n				\n					\n		\n				\n			\n						\n				\n									Children (-18yrs): £6.00								\n				\n					\n		\n					\n		\n				\n						\n					\n			\n						\n				\n									\n					\n						\n									Get Your Tickets Here
URL:https://theherontheatre.com/whats-on/a-complete-unknown/
LOCATION:The Heron Theatre\, Stanley Street\, Milnthorpe\, Cumbria\, LA7 7AS\, United Kingdom
CATEGORIES:Films,Upcoming Events
ATTACH;FMTTYPE=image/webp:https://theherontheatre.com/wp-content/uploads/2025/07/A-Complete-Unknown-IMage.webp
ORGANIZER;CN="The Heron Management Committee":MAILTO:info@theherontheatre.com
END:VEVENT
BEGIN:VEVENT
DTSTART;TZID=Europe/London:20251005T143000
DTEND;TZID=Europe/London:20251005T163000
DTSTAMP:20260423T102301
CREATED:20250715T193138Z
LAST-MODIFIED:20250719T073037Z
UID:7104-1759674600-1759681800@theherontheatre.com
SUMMARY:K-Shoes Male Voice Choir
DESCRIPTION:FilmsLes Liaisons Dangereuse Running Time: 3h (Inc interval) Rated: 15 Friday 21st August 2026\, 7:30pm BAFTA award-winner Lesley Manville joins Aidan Turner in a striking new staging adaptation of the classic novel\, where among the glittering salons of the super-rich\, one misstep can mean ruin. Marquise de Merteuil and Vicomte de Valmont turn seduction into strategy and weaponise desire\, but when their alliance collapses into rivalry\, it threatens to destroy everyone in their path. 								\n				\n					\n		\n				\n			\n						\n				\n																														\n				\n					\n		\n					\n		\n				\n						\n					\n			\n						\n				\n									Ticket Prices								\n				\n					\n		\n					\n		\n				\n						\n					\n			\n						\n				\n									Standard: £7.50								\n				\n					\n		\n				\n			\n						\n				\n									Member: £6.00								\n				\n					\n		\n				\n			\n						\n				\n									Children (-18yrs): £6.00								\n				\n					\n		\n					\n		\n				\n						\n					\n			\n						\n				\n									\n					\n						\n									Get Your Tickets Here
URL:https://theherontheatre.com/whats-on/k-shoes-male-voice-choir/
LOCATION:The Heron Theatre\, Stanley Street\, Milnthorpe\, Cumbria\, LA7 7AS\, United Kingdom
CATEGORIES:Live Music,Sunday Classical Events,Upcoming Events
ATTACH;FMTTYPE=image/webp:https://theherontheatre.com/wp-content/uploads/2025/07/K_Shoes_3_782x600.webp
ORGANIZER;CN="The Heron Management Committee":MAILTO:info@theherontheatre.com
END:VEVENT
BEGIN:VEVENT
DTSTART;TZID=Europe/London:20251010T193000
DTEND;TZID=Europe/London:20251010T213000
DTSTAMP:20260423T102301
CREATED:20250715T183456Z
LAST-MODIFIED:20250718T162517Z
UID:7065-1760124600-1760131800@theherontheatre.com
SUMMARY:Divorced Beheaded\, Died: An Audience With King Henry VIII
DESCRIPTION:FilmsLes Liaisons Dangereuse Running Time: 3h (Inc interval) Rated: 15 Friday 21st August 2026\, 7:30pm BAFTA award-winner Lesley Manville joins Aidan Turner in a striking new staging adaptation of the classic novel\, where among the glittering salons of the super-rich\, one misstep can mean ruin. Marquise de Merteuil and Vicomte de Valmont turn seduction into strategy and weaponise desire\, but when their alliance collapses into rivalry\, it threatens to destroy everyone in their path. 								\n				\n					\n		\n				\n			\n						\n				\n																														\n				\n					\n		\n					\n		\n				\n						\n					\n			\n						\n				\n									Ticket Prices								\n				\n					\n		\n					\n		\n				\n						\n					\n			\n						\n				\n									Standard: £7.50								\n				\n					\n		\n				\n			\n						\n				\n									Member: £6.00								\n				\n					\n		\n				\n			\n						\n				\n									Children (-18yrs): £6.00								\n				\n					\n		\n					\n		\n				\n						\n					\n			\n						\n				\n									\n					\n						\n									Get Your Tickets Here
URL:https://theherontheatre.com/whats-on/divorced-beheaded-died-an-audience-with-king-henry-viii/
LOCATION:The Heron Theatre\, Stanley Street\, Milnthorpe\, Cumbria\, LA7 7AS\, United Kingdom
CATEGORIES:Drama
ATTACH;FMTTYPE=image/webp:https://theherontheatre.com/wp-content/uploads/2025/07/Henry-VIII-Image.webp
ORGANIZER;CN="The Heron Management Committee":MAILTO:info@theherontheatre.com
END:VEVENT
BEGIN:VEVENT
DTSTART;TZID=Europe/London:20251014T193000
DTEND;TZID=Europe/London:20251014T213000
DTSTAMP:20260423T102301
CREATED:20250715T210338Z
LAST-MODIFIED:20250921T162551Z
UID:7196-1760470200-1760477400@theherontheatre.com
SUMMARY:National Theatre Live - Interalia
DESCRIPTION:FilmsLes Liaisons Dangereuse Running Time: 3h (Inc interval) Rated: 15 Friday 21st August 2026\, 7:30pm BAFTA award-winner Lesley Manville joins Aidan Turner in a striking new staging adaptation of the classic novel\, where among the glittering salons of the super-rich\, one misstep can mean ruin. Marquise de Merteuil and Vicomte de Valmont turn seduction into strategy and weaponise desire\, but when their alliance collapses into rivalry\, it threatens to destroy everyone in their path. 								\n				\n					\n		\n				\n			\n						\n				\n																														\n				\n					\n		\n					\n		\n				\n						\n					\n			\n						\n				\n									Ticket Prices								\n				\n					\n		\n					\n		\n				\n						\n					\n			\n						\n				\n									Standard: £7.50								\n				\n					\n		\n				\n			\n						\n				\n									Member: £6.00								\n				\n					\n		\n				\n			\n						\n				\n									Children (-18yrs): £6.00								\n				\n					\n		\n					\n		\n				\n						\n					\n			\n						\n				\n									\n					\n						\n									Get Your Tickets Here
URL:https://theherontheatre.com/whats-on/national-theatre-live-interalia/
LOCATION:The Heron Theatre\, Stanley Street\, Milnthorpe\, Cumbria\, LA7 7AS\, United Kingdom
CATEGORIES:National Theatre Live,Upcoming Events
ATTACH;FMTTYPE=image/webp:https://theherontheatre.com/wp-content/uploads/2025/07/Interalia-Image-2.webp
ORGANIZER;CN="The Heron Management Committee":MAILTO:info@theherontheatre.com
END:VEVENT
BEGIN:VEVENT
DTSTART;TZID=Europe/London:20251018T193000
DTEND;TZID=Europe/London:20251018T213000
DTSTAMP:20260423T102301
CREATED:20250715T202915Z
LAST-MODIFIED:20250718T162337Z
UID:7156-1760815800-1760823000@theherontheatre.com
SUMMARY:Off The Rails - Jazz Orchestra
DESCRIPTION:FilmsLes Liaisons Dangereuse Running Time: 3h (Inc interval) Rated: 15 Friday 21st August 2026\, 7:30pm BAFTA award-winner Lesley Manville joins Aidan Turner in a striking new staging adaptation of the classic novel\, where among the glittering salons of the super-rich\, one misstep can mean ruin. Marquise de Merteuil and Vicomte de Valmont turn seduction into strategy and weaponise desire\, but when their alliance collapses into rivalry\, it threatens to destroy everyone in their path. 								\n				\n					\n		\n				\n			\n						\n				\n																														\n				\n					\n		\n					\n		\n				\n						\n					\n			\n						\n				\n									Ticket Prices								\n				\n					\n		\n					\n		\n				\n						\n					\n			\n						\n				\n									Standard: £7.50								\n				\n					\n		\n				\n			\n						\n				\n									Member: £6.00								\n				\n					\n		\n				\n			\n						\n				\n									Children (-18yrs): £6.00								\n				\n					\n		\n					\n		\n				\n						\n					\n			\n						\n				\n									\n					\n						\n									Get Your Tickets Here
URL:https://theherontheatre.com/whats-on/off-the-rails-jazz-orchestra/
LOCATION:The Heron Theatre\, Stanley Street\, Milnthorpe\, Cumbria\, LA7 7AS\, United Kingdom
CATEGORIES:Live Music,Saturday Music Concerts,Upcoming Events
ATTACH;FMTTYPE=image/webp:https://theherontheatre.com/wp-content/uploads/2025/07/Off-The-Rails-Image-One.webp
ORGANIZER;CN="The Heron Management Committee":MAILTO:info@theherontheatre.com
END:VEVENT
BEGIN:VEVENT
DTSTART;TZID=Europe/London:20251031T193000
DTEND;TZID=Europe/London:20251031T220000
DTSTAMP:20260423T102301
CREATED:20250715T182007Z
LAST-MODIFIED:20250718T162157Z
UID:7049-1761939000-1761948000@theherontheatre.com
SUMMARY:The Salt Path
DESCRIPTION:FilmsLes Liaisons Dangereuse Running Time: 3h (Inc interval) Rated: 15 Friday 21st August 2026\, 7:30pm BAFTA award-winner Lesley Manville joins Aidan Turner in a striking new staging adaptation of the classic novel\, where among the glittering salons of the super-rich\, one misstep can mean ruin. Marquise de Merteuil and Vicomte de Valmont turn seduction into strategy and weaponise desire\, but when their alliance collapses into rivalry\, it threatens to destroy everyone in their path. 								\n				\n					\n		\n				\n			\n						\n				\n																														\n				\n					\n		\n					\n		\n				\n						\n					\n			\n						\n				\n									Ticket Prices								\n				\n					\n		\n					\n		\n				\n						\n					\n			\n						\n				\n									Standard: £7.50								\n				\n					\n		\n				\n			\n						\n				\n									Member: £6.00								\n				\n					\n		\n				\n			\n						\n				\n									Children (-18yrs): £6.00								\n				\n					\n		\n					\n		\n				\n						\n					\n			\n						\n				\n									\n					\n						\n									Get Your Tickets Here
URL:https://theherontheatre.com/whats-on/the-salt-path/
LOCATION:The Heron Theatre\, Stanley Street\, Milnthorpe\, Cumbria\, LA7 7AS\, United Kingdom
CATEGORIES:Films,Upcoming Events
ATTACH;FMTTYPE=image/webp:https://theherontheatre.com/wp-content/uploads/2025/07/The-Salt-Path-Image.webp
ORGANIZER;CN="The Heron Management Committee":MAILTO:info@theherontheatre.com
END:VEVENT
END:VCALENDAR