BEGIN:VCALENDAR
VERSION:2.0
PRODID:-//The Heron Theatre - Beetham - ECPv6.15.12.2//NONSGML v1.0//EN
CALSCALE:GREGORIAN
METHOD:PUBLISH
X-WR-CALNAME:The Heron Theatre - Beetham
X-ORIGINAL-URL:https://theherontheatre.com
X-WR-CALDESC:Events for The Heron Theatre - Beetham
REFRESH-INTERVAL;VALUE=DURATION:PT1H
X-Robots-Tag:noindex
X-PUBLISHED-TTL:PT1H
BEGIN:VTIMEZONE
TZID:Europe/London
BEGIN:DAYLIGHT
TZOFFSETFROM:+0000
TZOFFSETTO:+0100
TZNAME:BST
DTSTART:20240331T010000
END:DAYLIGHT
BEGIN:STANDARD
TZOFFSETFROM:+0100
TZOFFSETTO:+0000
TZNAME:GMT
DTSTART:20241027T010000
END:STANDARD
BEGIN:DAYLIGHT
TZOFFSETFROM:+0000
TZOFFSETTO:+0100
TZNAME:BST
DTSTART:20250330T010000
END:DAYLIGHT
BEGIN:STANDARD
TZOFFSETFROM:+0100
TZOFFSETTO:+0000
TZNAME:GMT
DTSTART:20251026T010000
END:STANDARD
BEGIN:DAYLIGHT
TZOFFSETFROM:+0000
TZOFFSETTO:+0100
TZNAME:BST
DTSTART:20260329T010000
END:DAYLIGHT
BEGIN:STANDARD
TZOFFSETFROM:+0100
TZOFFSETTO:+0000
TZNAME:GMT
DTSTART:20261025T010000
END:STANDARD
END:VTIMEZONE
BEGIN:VEVENT
DTSTART;TZID=Europe/London:20250202T143000
DTEND;TZID=Europe/London:20250202T163000
DTSTAMP:20260421T110724
CREATED:20240704T095837Z
LAST-MODIFIED:20240722T111852Z
UID:6073-1738506600-1738513800@theherontheatre.com
SUMMARY:Viva Wind Quintet
DESCRIPTION:FilmsLes Liaisons Dangereuse Running Time: 3h (Inc interval) Rated: 15 Friday 21st August 2026\, 7:30pm BAFTA award-winner Lesley Manville joins Aidan Turner in a striking new staging adaptation of the classic novel\, where among the glittering salons of the super-rich\, one misstep can mean ruin. Marquise de Merteuil and Vicomte de Valmont turn seduction into strategy and weaponise desire\, but when their alliance collapses into rivalry\, it threatens to destroy everyone in their path. 								\n				\n					\n		\n				\n			\n						\n				\n																														\n				\n					\n		\n					\n		\n				\n						\n					\n			\n						\n				\n									Ticket Prices								\n				\n					\n		\n					\n		\n				\n						\n					\n			\n						\n				\n									Standard: £7.50								\n				\n					\n		\n				\n			\n						\n				\n									Member: £6.00								\n				\n					\n		\n				\n			\n						\n				\n									Children (-18yrs): £6.00								\n				\n					\n		\n					\n		\n				\n						\n					\n			\n						\n				\n									\n					\n						\n									Get Your Tickets Here
URL:https://theherontheatre.com/whats-on/viva-wind-quintet/
LOCATION:The Heron Theatre\, Stanley Street\, Milnthorpe\, Cumbria\, LA7 7AS\, United Kingdom
CATEGORIES:Live Music,Sunday Classical Events,Upcoming Events
ATTACH;FMTTYPE=image/webp:https://theherontheatre.com/wp-content/uploads/2024/07/Christine-Lorriman.webp
ORGANIZER;CN="The Heron Management Committee":MAILTO:info@theherontheatre.com
END:VEVENT
BEGIN:VEVENT
DTSTART;TZID=Europe/London:20250207T193000
DTEND;TZID=Europe/London:20250207T213000
DTSTAMP:20260421T110724
CREATED:20240704T083049Z
LAST-MODIFIED:20240927T133219Z
UID:5962-1738956600-1738963800@theherontheatre.com
SUMMARY:Funny Stuff
DESCRIPTION:FilmsLes Liaisons Dangereuse Running Time: 3h (Inc interval) Rated: 15 Friday 21st August 2026\, 7:30pm BAFTA award-winner Lesley Manville joins Aidan Turner in a striking new staging adaptation of the classic novel\, where among the glittering salons of the super-rich\, one misstep can mean ruin. Marquise de Merteuil and Vicomte de Valmont turn seduction into strategy and weaponise desire\, but when their alliance collapses into rivalry\, it threatens to destroy everyone in their path. 								\n				\n					\n		\n				\n			\n						\n				\n																														\n				\n					\n		\n					\n		\n				\n						\n					\n			\n						\n				\n									Ticket Prices								\n				\n					\n		\n					\n		\n				\n						\n					\n			\n						\n				\n									Standard: £7.50								\n				\n					\n		\n				\n			\n						\n				\n									Member: £6.00								\n				\n					\n		\n				\n			\n						\n				\n									Children (-18yrs): £6.00								\n				\n					\n		\n					\n		\n				\n						\n					\n			\n						\n				\n									\n					\n						\n									Get Your Tickets Here
URL:https://theherontheatre.com/whats-on/funny-stuff/
LOCATION:The Heron Theatre\, Stanley Street\, Milnthorpe\, Cumbria\, LA7 7AS\, United Kingdom
CATEGORIES:Drama,Upcoming Events
ATTACH;FMTTYPE=image/webp:https://theherontheatre.com/wp-content/uploads/2024/07/Funny-Stuff-2.webp
ORGANIZER;CN="The Heron Management Committee":MAILTO:info@theherontheatre.com
END:VEVENT
BEGIN:VEVENT
DTSTART;TZID=Europe/London:20250211T140000
DTEND;TZID=Europe/London:20250211T154500
DTSTAMP:20260421T110724
CREATED:20241111T184008Z
LAST-MODIFIED:20241111T185842Z
UID:6589-1739282400-1739288700@theherontheatre.com
SUMMARY:The Danish Collector - Delacroix To Gauguin
DESCRIPTION:FilmsLes Liaisons Dangereuse Running Time: 3h (Inc interval) Rated: 15 Friday 21st August 2026\, 7:30pm BAFTA award-winner Lesley Manville joins Aidan Turner in a striking new staging adaptation of the classic novel\, where among the glittering salons of the super-rich\, one misstep can mean ruin. Marquise de Merteuil and Vicomte de Valmont turn seduction into strategy and weaponise desire\, but when their alliance collapses into rivalry\, it threatens to destroy everyone in their path. 								\n				\n					\n		\n				\n			\n						\n				\n																														\n				\n					\n		\n					\n		\n				\n						\n					\n			\n						\n				\n									Ticket Prices								\n				\n					\n		\n					\n		\n				\n						\n					\n			\n						\n				\n									Standard: £7.50								\n				\n					\n		\n				\n			\n						\n				\n									Member: £6.00								\n				\n					\n		\n				\n			\n						\n				\n									Children (-18yrs): £6.00								\n				\n					\n		\n					\n		\n				\n						\n					\n			\n						\n				\n									\n					\n						\n									Get Your Tickets Here
URL:https://theherontheatre.com/whats-on/the-danish-collector-delacroix-to-gauguin/
LOCATION:The Heron Theatre\, Stanley Street\, Milnthorpe\, Cumbria\, LA7 7AS\, United Kingdom
CATEGORIES:Exhibitions On Screen,Upcoming Events
ATTACH;FMTTYPE=image/jpeg:https://theherontheatre.com/wp-content/uploads/2024/11/The-Danish-Collector.jpg
ORGANIZER;CN="The Heron Management Committee":MAILTO:info@theherontheatre.com
END:VEVENT
BEGIN:VEVENT
DTSTART;TZID=Europe/London:20250215T193000
DTEND;TZID=Europe/London:20250215T213000
DTSTAMP:20260421T110724
CREATED:20240704T114208Z
LAST-MODIFIED:20240722T112036Z
UID:6127-1739647800-1739655000@theherontheatre.com
SUMMARY:Harp And A Monkey
DESCRIPTION:FilmsLes Liaisons Dangereuse Running Time: 3h (Inc interval) Rated: 15 Friday 21st August 2026\, 7:30pm BAFTA award-winner Lesley Manville joins Aidan Turner in a striking new staging adaptation of the classic novel\, where among the glittering salons of the super-rich\, one misstep can mean ruin. Marquise de Merteuil and Vicomte de Valmont turn seduction into strategy and weaponise desire\, but when their alliance collapses into rivalry\, it threatens to destroy everyone in their path. 								\n				\n					\n		\n				\n			\n						\n				\n																														\n				\n					\n		\n					\n		\n				\n						\n					\n			\n						\n				\n									Ticket Prices								\n				\n					\n		\n					\n		\n				\n						\n					\n			\n						\n				\n									Standard: £7.50								\n				\n					\n		\n				\n			\n						\n				\n									Member: £6.00								\n				\n					\n		\n				\n			\n						\n				\n									Children (-18yrs): £6.00								\n				\n					\n		\n					\n		\n				\n						\n					\n			\n						\n				\n									\n					\n						\n									Get Your Tickets Here
URL:https://theherontheatre.com/whats-on/harp-and-a-monkey/
LOCATION:The Heron Theatre\, Stanley Street\, Milnthorpe\, Cumbria\, LA7 7AS\, United Kingdom
CATEGORIES:Live Music,Saturday Music Concerts,Upcoming Events
ATTACH;FMTTYPE=image/webp:https://theherontheatre.com/wp-content/uploads/2024/07/Harp-Monkey.webp
ORGANIZER;CN="The Heron Management Committee":MAILTO:info@theherontheatre.com
END:VEVENT
BEGIN:VEVENT
DTSTART;TZID=Europe/London:20250226T193000
DTEND;TZID=Europe/London:20250226T213000
DTSTAMP:20260421T110724
CREATED:20240704T084809Z
LAST-MODIFIED:20241112T103008Z
UID:5978-1740598200-1740605400@theherontheatre.com
SUMMARY:Uncle Vanya
DESCRIPTION:FilmsLes Liaisons Dangereuse Running Time: 3h (Inc interval) Rated: 15 Friday 21st August 2026\, 7:30pm BAFTA award-winner Lesley Manville joins Aidan Turner in a striking new staging adaptation of the classic novel\, where among the glittering salons of the super-rich\, one misstep can mean ruin. Marquise de Merteuil and Vicomte de Valmont turn seduction into strategy and weaponise desire\, but when their alliance collapses into rivalry\, it threatens to destroy everyone in their path. 								\n				\n					\n		\n				\n			\n						\n				\n																														\n				\n					\n		\n					\n		\n				\n						\n					\n			\n						\n				\n									Ticket Prices								\n				\n					\n		\n					\n		\n				\n						\n					\n			\n						\n				\n									Standard: £7.50								\n				\n					\n		\n				\n			\n						\n				\n									Member: £6.00								\n				\n					\n		\n				\n			\n						\n				\n									Children (-18yrs): £6.00								\n				\n					\n		\n					\n		\n				\n						\n					\n			\n						\n				\n									\n					\n						\n									Get Your Tickets Here
URL:https://theherontheatre.com/whats-on/uncle-vanya/
LOCATION:The Heron Theatre\, Stanley Street\, Milnthorpe\, Cumbria\, LA7 7AS\, United Kingdom
CATEGORIES:Drama,Upcoming Events
ATTACH;FMTTYPE=image/webp:https://theherontheatre.com/wp-content/uploads/2024/07/Uncle-Vanya-Image.webp
ORGANIZER;CN="The Heron Management Committee":MAILTO:info@theherontheatre.com
END:VEVENT
BEGIN:VEVENT
DTSTART;TZID=Europe/London:20250227T193000
DTEND;TZID=Europe/London:20250227T213000
DTSTAMP:20260421T110724
CREATED:20240704T085559Z
LAST-MODIFIED:20241112T102904Z
UID:5986-1740684600-1740691800@theherontheatre.com
SUMMARY:Uncle Vanya
DESCRIPTION:FilmsLes Liaisons Dangereuse Running Time: 3h (Inc interval) Rated: 15 Friday 21st August 2026\, 7:30pm BAFTA award-winner Lesley Manville joins Aidan Turner in a striking new staging adaptation of the classic novel\, where among the glittering salons of the super-rich\, one misstep can mean ruin. Marquise de Merteuil and Vicomte de Valmont turn seduction into strategy and weaponise desire\, but when their alliance collapses into rivalry\, it threatens to destroy everyone in their path. 								\n				\n					\n		\n				\n			\n						\n				\n																														\n				\n					\n		\n					\n		\n				\n						\n					\n			\n						\n				\n									Ticket Prices								\n				\n					\n		\n					\n		\n				\n						\n					\n			\n						\n				\n									Standard: £7.50								\n				\n					\n		\n				\n			\n						\n				\n									Member: £6.00								\n				\n					\n		\n				\n			\n						\n				\n									Children (-18yrs): £6.00								\n				\n					\n		\n					\n		\n				\n						\n					\n			\n						\n				\n									\n					\n						\n									Get Your Tickets Here
URL:https://theherontheatre.com/whats-on/uncle-vanya-2/
LOCATION:The Heron Theatre\, Stanley Street\, Milnthorpe\, Cumbria\, LA7 7AS\, United Kingdom
CATEGORIES:Drama
ATTACH;FMTTYPE=image/webp:https://theherontheatre.com/wp-content/uploads/2024/07/Uncle-Vanya-Image.webp
ORGANIZER;CN="The Heron Management Committee":MAILTO:info@theherontheatre.com
END:VEVENT
BEGIN:VEVENT
DTSTART;TZID=Europe/London:20250228T193000
DTEND;TZID=Europe/London:20250228T213000
DTSTAMP:20260421T110724
CREATED:20240704T085812Z
LAST-MODIFIED:20241112T102803Z
UID:5995-1740771000-1740778200@theherontheatre.com
SUMMARY:Uncle Vanya
DESCRIPTION:FilmsLes Liaisons Dangereuse Running Time: 3h (Inc interval) Rated: 15 Friday 21st August 2026\, 7:30pm BAFTA award-winner Lesley Manville joins Aidan Turner in a striking new staging adaptation of the classic novel\, where among the glittering salons of the super-rich\, one misstep can mean ruin. Marquise de Merteuil and Vicomte de Valmont turn seduction into strategy and weaponise desire\, but when their alliance collapses into rivalry\, it threatens to destroy everyone in their path. 								\n				\n					\n		\n				\n			\n						\n				\n																														\n				\n					\n		\n					\n		\n				\n						\n					\n			\n						\n				\n									Ticket Prices								\n				\n					\n		\n					\n		\n				\n						\n					\n			\n						\n				\n									Standard: £7.50								\n				\n					\n		\n				\n			\n						\n				\n									Member: £6.00								\n				\n					\n		\n				\n			\n						\n				\n									Children (-18yrs): £6.00								\n				\n					\n		\n					\n		\n				\n						\n					\n			\n						\n				\n									\n					\n						\n									Get Your Tickets Here
URL:https://theherontheatre.com/whats-on/uncle-vanya-3/
LOCATION:The Heron Theatre\, Stanley Street\, Milnthorpe\, Cumbria\, LA7 7AS\, United Kingdom
CATEGORIES:Drama
ATTACH;FMTTYPE=image/webp:https://theherontheatre.com/wp-content/uploads/2024/07/Uncle-Vanya-Image.webp
ORGANIZER;CN="The Heron Management Committee":MAILTO:info@theherontheatre.com
END:VEVENT
END:VCALENDAR