BEGIN:VCALENDAR
VERSION:2.0
PRODID:-//The Heron Theatre - Beetham - ECPv6.15.12.2//NONSGML v1.0//EN
CALSCALE:GREGORIAN
METHOD:PUBLISH
X-ORIGINAL-URL:https://theherontheatre.com
X-WR-CALDESC:Events for The Heron Theatre - Beetham
REFRESH-INTERVAL;VALUE=DURATION:PT1H
X-Robots-Tag:noindex
X-PUBLISHED-TTL:PT1H
BEGIN:VTIMEZONE
TZID:Europe/London
BEGIN:DAYLIGHT
TZOFFSETFROM:+0000
TZOFFSETTO:+0100
TZNAME:BST
DTSTART:20250330T010000
END:DAYLIGHT
BEGIN:STANDARD
TZOFFSETFROM:+0100
TZOFFSETTO:+0000
TZNAME:GMT
DTSTART:20251026T010000
END:STANDARD
BEGIN:DAYLIGHT
TZOFFSETFROM:+0000
TZOFFSETTO:+0100
TZNAME:BST
DTSTART:20260329T010000
END:DAYLIGHT
BEGIN:STANDARD
TZOFFSETFROM:+0100
TZOFFSETTO:+0000
TZNAME:GMT
DTSTART:20261025T010000
END:STANDARD
BEGIN:DAYLIGHT
TZOFFSETFROM:+0000
TZOFFSETTO:+0100
TZNAME:BST
DTSTART:20270328T010000
END:DAYLIGHT
BEGIN:STANDARD
TZOFFSETFROM:+0100
TZOFFSETTO:+0000
TZNAME:GMT
DTSTART:20271031T010000
END:STANDARD
END:VTIMEZONE
BEGIN:VEVENT
DTSTART;TZID=Europe/London:20260703T193000
DTEND;TZID=Europe/London:20260703T220000
DTSTAMP:20260422T111205
CREATED:20260401T134706Z
LAST-MODIFIED:20260401T135020Z
UID:8136-1783107000-1783116000@theherontheatre.com
SUMMARY:The Seed Of The Sacred Fig
DESCRIPTION:Sunday Classical\nK-Shoes Male Voice Choir \nSunday 5th October 2025\, 2:30pm \nK Shoes Male Voice Choir is Cumbria’s longest established Male Voice Choir. Their ‘raison d’etre’ is to bring Male Voice Music to the people of North West England and helpraise money for charities. \nPast concerts have raised over £11\,000 for the ‘Help The Heroes’ charity\, with money for local hospices\, The Turkish Earthquake Appeal\, Ukraine\, Manna House Kendal\, Rotary and many local Churches. \nThe choir are hugely talented. They appear in a wide range of venues and are always well received. In 2018 the Choir appeared at The Royal Albert Hall as part of the London Welsh Festival of Male Voice Choirs. \nMusical Director Michael Sanderson joined the Choir in May 2022 and has played a significant part in our recovery following Covid and return to public performances. Together with his wife Katherine they run the Eden Valley Music Company. \nThe choir will present a broad range of music and will entertain and delight. What better way to spend a Sunday afternoon than in the company of the K-Shoes Male Voice Choir. 								\n				\n					\n		\n				\n			\n						\n				\n												\n																					\n										\n									\n				\n					\n		\n					\n		\n				\n						\n					\n			\n						\n				\n									Ticket Prices								\n				\n					\n		\n					\n		\n				\n						\n					\n			\n						\n				\n									Standard: £15.00								\n				\n					\n		\n				\n			\n						\n				\n									Member: £12.00								\n				\n					\n		\n				\n			\n						\n				\n									Children (-18yrs): £6.00								\n				\n					\n		\n					\n		\n				\n						\n					\n			\n						\n				\n									\n					\n						\n									Get Your Tickets Here
URL:https://theherontheatre.com/whats-on/the-seed-of-the-sacred-fig/
LOCATION:The Heron Theatre\, Stanley Street\, Milnthorpe\, Cumbria\, LA7 7AS\, United Kingdom
CATEGORIES:Films,Upcoming Events
ATTACH;FMTTYPE=image/webp:https://theherontheatre.com/wp-content/uploads/2026/04/Seed-Of-The-Fig.webp
ORGANIZER;CN="The Heron Management Committee":MAILTO:info@theherontheatre.com
END:VEVENT
BEGIN:VEVENT
DTSTART;TZID=Europe/London:20260717T193000
DTEND;TZID=Europe/London:20260717T220000
DTSTAMP:20260422T111205
CREATED:20260401T163801Z
LAST-MODIFIED:20260401T165731Z
UID:8143-1784316600-1784325600@theherontheatre.com
SUMMARY:The Playboy Of The Western World
DESCRIPTION:Sunday Classical\nK-Shoes Male Voice Choir \nSunday 5th October 2025\, 2:30pm \nK Shoes Male Voice Choir is Cumbria’s longest established Male Voice Choir. Their ‘raison d’etre’ is to bring Male Voice Music to the people of North West England and helpraise money for charities. \nPast concerts have raised over £11\,000 for the ‘Help The Heroes’ charity\, with money for local hospices\, The Turkish Earthquake Appeal\, Ukraine\, Manna House Kendal\, Rotary and many local Churches. \nThe choir are hugely talented. They appear in a wide range of venues and are always well received. In 2018 the Choir appeared at The Royal Albert Hall as part of the London Welsh Festival of Male Voice Choirs. \nMusical Director Michael Sanderson joined the Choir in May 2022 and has played a significant part in our recovery following Covid and return to public performances. Together with his wife Katherine they run the Eden Valley Music Company. \nThe choir will present a broad range of music and will entertain and delight. What better way to spend a Sunday afternoon than in the company of the K-Shoes Male Voice Choir. 								\n				\n					\n		\n				\n			\n						\n				\n												\n																					\n										\n									\n				\n					\n		\n					\n		\n				\n						\n					\n			\n						\n				\n									Ticket Prices								\n				\n					\n		\n					\n		\n				\n						\n					\n			\n						\n				\n									Standard: £15.00								\n				\n					\n		\n				\n			\n						\n				\n									Member: £12.00								\n				\n					\n		\n				\n			\n						\n				\n									Children (-18yrs): £6.00								\n				\n					\n		\n					\n		\n				\n						\n					\n			\n						\n				\n									\n					\n						\n									Get Your Tickets Here
URL:https://theherontheatre.com/whats-on/the-playboy-of-the-western-world/
LOCATION:The Heron Theatre\, Stanley Street\, Milnthorpe\, Cumbria\, LA7 7AS\, United Kingdom
CATEGORIES:National Theatre Live,Upcoming Events
ATTACH;FMTTYPE=image/jpeg:https://theherontheatre.com/wp-content/uploads/2026/04/Playboy-Of-The-Western-World.jpg
ORGANIZER;CN="The Heron Management Committee":MAILTO:info@theherontheatre.com
END:VEVENT
BEGIN:VEVENT
DTSTART;TZID=Europe/London:20260807T193000
DTEND;TZID=Europe/London:20260807T220000
DTSTAMP:20260422T111205
CREATED:20260401T164548Z
LAST-MODIFIED:20260401T164922Z
UID:8150-1786131000-1786140000@theherontheatre.com
SUMMARY:I Swear
DESCRIPTION:Sunday Classical\nK-Shoes Male Voice Choir \nSunday 5th October 2025\, 2:30pm \nK Shoes Male Voice Choir is Cumbria’s longest established Male Voice Choir. Their ‘raison d’etre’ is to bring Male Voice Music to the people of North West England and helpraise money for charities. \nPast concerts have raised over £11\,000 for the ‘Help The Heroes’ charity\, with money for local hospices\, The Turkish Earthquake Appeal\, Ukraine\, Manna House Kendal\, Rotary and many local Churches. \nThe choir are hugely talented. They appear in a wide range of venues and are always well received. In 2018 the Choir appeared at The Royal Albert Hall as part of the London Welsh Festival of Male Voice Choirs. \nMusical Director Michael Sanderson joined the Choir in May 2022 and has played a significant part in our recovery following Covid and return to public performances. Together with his wife Katherine they run the Eden Valley Music Company. \nThe choir will present a broad range of music and will entertain and delight. What better way to spend a Sunday afternoon than in the company of the K-Shoes Male Voice Choir. 								\n				\n					\n		\n				\n			\n						\n				\n												\n																					\n										\n									\n				\n					\n		\n					\n		\n				\n						\n					\n			\n						\n				\n									Ticket Prices								\n				\n					\n		\n					\n		\n				\n						\n					\n			\n						\n				\n									Standard: £15.00								\n				\n					\n		\n				\n			\n						\n				\n									Member: £12.00								\n				\n					\n		\n				\n			\n						\n				\n									Children (-18yrs): £6.00								\n				\n					\n		\n					\n		\n				\n						\n					\n			\n						\n				\n									\n					\n						\n									Get Your Tickets Here
URL:https://theherontheatre.com/whats-on/i-swear/
LOCATION:The Heron Theatre\, Stanley Street\, Milnthorpe\, Cumbria\, LA7 7AS\, United Kingdom
CATEGORIES:Films,Upcoming Events
ATTACH;FMTTYPE=image/webp:https://theherontheatre.com/wp-content/uploads/2026/04/I-Swear-Tourettes.webp
ORGANIZER;CN="The Heron Management Committee":MAILTO:info@theherontheatre.com
END:VEVENT
BEGIN:VEVENT
DTSTART;TZID=Europe/London:20260821T193000
DTEND;TZID=Europe/London:20260821T223000
DTSTAMP:20260422T111205
CREATED:20260401T165219Z
LAST-MODIFIED:20260401T165821Z
UID:8157-1787340600-1787351400@theherontheatre.com
SUMMARY:Les Liaisons Dangereuses
DESCRIPTION:Sunday Classical\nK-Shoes Male Voice Choir \nSunday 5th October 2025\, 2:30pm \nK Shoes Male Voice Choir is Cumbria’s longest established Male Voice Choir. Their ‘raison d’etre’ is to bring Male Voice Music to the people of North West England and helpraise money for charities. \nPast concerts have raised over £11\,000 for the ‘Help The Heroes’ charity\, with money for local hospices\, The Turkish Earthquake Appeal\, Ukraine\, Manna House Kendal\, Rotary and many local Churches. \nThe choir are hugely talented. They appear in a wide range of venues and are always well received. In 2018 the Choir appeared at The Royal Albert Hall as part of the London Welsh Festival of Male Voice Choirs. \nMusical Director Michael Sanderson joined the Choir in May 2022 and has played a significant part in our recovery following Covid and return to public performances. Together with his wife Katherine they run the Eden Valley Music Company. \nThe choir will present a broad range of music and will entertain and delight. What better way to spend a Sunday afternoon than in the company of the K-Shoes Male Voice Choir. 								\n				\n					\n		\n				\n			\n						\n				\n												\n																					\n										\n									\n				\n					\n		\n					\n		\n				\n						\n					\n			\n						\n				\n									Ticket Prices								\n				\n					\n		\n					\n		\n				\n						\n					\n			\n						\n				\n									Standard: £15.00								\n				\n					\n		\n				\n			\n						\n				\n									Member: £12.00								\n				\n					\n		\n				\n			\n						\n				\n									Children (-18yrs): £6.00								\n				\n					\n		\n					\n		\n				\n						\n					\n			\n						\n				\n									\n					\n						\n									Get Your Tickets Here
URL:https://theherontheatre.com/whats-on/les-liaisons-dangereuse/
LOCATION:The Heron Theatre\, Stanley Street\, Milnthorpe\, Cumbria\, LA7 7AS\, United Kingdom
CATEGORIES:National Theatre Live,Upcoming Events
ATTACH;FMTTYPE=image/webp:https://theherontheatre.com/wp-content/uploads/2026/04/Les-Liaisons-Dangereuse.webp
ORGANIZER;CN="The Heron Management Committee":MAILTO:info@theherontheatre.com
END:VEVENT
END:VCALENDAR