BEGIN:VCALENDAR
VERSION:2.0
PRODID:-//The Heron Theatre - Beetham - ECPv6.15.12.2//NONSGML v1.0//EN
CALSCALE:GREGORIAN
METHOD:PUBLISH
X-WR-CALNAME:The Heron Theatre - Beetham
X-ORIGINAL-URL:https://theherontheatre.com
X-WR-CALDESC:Events for The Heron Theatre - Beetham
REFRESH-INTERVAL;VALUE=DURATION:PT1H
X-Robots-Tag:noindex
X-PUBLISHED-TTL:PT1H
BEGIN:VTIMEZONE
TZID:Europe/London
BEGIN:DAYLIGHT
TZOFFSETFROM:+0000
TZOFFSETTO:+0100
TZNAME:BST
DTSTART:20220327T010000
END:DAYLIGHT
BEGIN:STANDARD
TZOFFSETFROM:+0100
TZOFFSETTO:+0000
TZNAME:GMT
DTSTART:20221030T010000
END:STANDARD
BEGIN:DAYLIGHT
TZOFFSETFROM:+0000
TZOFFSETTO:+0100
TZNAME:BST
DTSTART:20230326T010000
END:DAYLIGHT
BEGIN:STANDARD
TZOFFSETFROM:+0100
TZOFFSETTO:+0000
TZNAME:GMT
DTSTART:20231029T010000
END:STANDARD
BEGIN:DAYLIGHT
TZOFFSETFROM:+0000
TZOFFSETTO:+0100
TZNAME:BST
DTSTART:20240331T010000
END:DAYLIGHT
BEGIN:STANDARD
TZOFFSETFROM:+0100
TZOFFSETTO:+0000
TZNAME:GMT
DTSTART:20241027T010000
END:STANDARD
END:VTIMEZONE
BEGIN:VEVENT
DTSTART;TZID=Europe/London:20230804T193000
DTEND;TZID=Europe/London:20230804T221000
DTSTAMP:20260420T201629
CREATED:20230721T104521Z
LAST-MODIFIED:20230921T072423Z
UID:4007-1691177400-1691187000@theherontheatre.com
SUMMARY:Elvis (2022)
DESCRIPTION:FilmsPast Lives Director – Celine Song Friday 5th April 7:30pm This fine Korean Canadian film is a mature love story that feels powerfully real. Na Young and Hae Sung are childhood sweethearts in Korea but Hae Sung’s family emigrates to Canada and they lose touch until they make contact again as young adults via social media. Years later they meet in person. It is a subtle and understated romantic drama that reflects our complicated lives in a universal story about life choices and the futility of regret\, and it sweeps us away in its final climactic moments. “It’s a must see” – P Bradshaw – Guardian 								\n				\n					\n		\n				\n			\n						\n				\n																														\n				\n					\n		\n					\n		\n				\n						\n					\n			\n						\n				\n									Ticket Prices								\n				\n					\n		\n					\n		\n				\n						\n					\n			\n						\n				\n									Standard: £7.50								\n				\n					\n		\n				\n			\n						\n				\n									Member: £6.00								\n				\n					\n		\n				\n			\n						\n				\n									Children (-18yrs): £6.00								\n				\n					\n		\n					\n		\n				\n						\n					\n			\n						\n				\n									\n					\n						\n									Get Your Tickets Here
URL:https://theherontheatre.com/whats-on/elvis-2022/
LOCATION:The Heron Theatre\, Stanley Street\, Milnthorpe\, Cumbria\, LA7 7AS\, United Kingdom
CATEGORIES:Films,Upcoming Events
ATTACH;FMTTYPE=image/jpeg:https://theherontheatre.com/wp-content/uploads/2023/07/Elvis-Poster.jpg
ORGANIZER;CN="The Heron Management Committee":MAILTO:info@theherontheatre.com
END:VEVENT
END:VCALENDAR