BEGIN:VCALENDAR
VERSION:2.0
PRODID:-//The Heron Theatre - Beetham - ECPv6.15.12.2//NONSGML v1.0//EN
CALSCALE:GREGORIAN
METHOD:PUBLISH
X-WR-CALNAME:The Heron Theatre - Beetham
X-ORIGINAL-URL:https://theherontheatre.com
X-WR-CALDESC:Events for The Heron Theatre - Beetham
REFRESH-INTERVAL;VALUE=DURATION:PT1H
X-Robots-Tag:noindex
X-PUBLISHED-TTL:PT1H
BEGIN:VTIMEZONE
TZID:Europe/London
BEGIN:DAYLIGHT
TZOFFSETFROM:+0000
TZOFFSETTO:+0100
TZNAME:BST
DTSTART:20230326T010000
END:DAYLIGHT
BEGIN:STANDARD
TZOFFSETFROM:+0100
TZOFFSETTO:+0000
TZNAME:GMT
DTSTART:20231029T010000
END:STANDARD
BEGIN:DAYLIGHT
TZOFFSETFROM:+0000
TZOFFSETTO:+0100
TZNAME:BST
DTSTART:20240331T010000
END:DAYLIGHT
BEGIN:STANDARD
TZOFFSETFROM:+0100
TZOFFSETTO:+0000
TZNAME:GMT
DTSTART:20241027T010000
END:STANDARD
BEGIN:DAYLIGHT
TZOFFSETFROM:+0000
TZOFFSETTO:+0100
TZNAME:BST
DTSTART:20250330T010000
END:DAYLIGHT
BEGIN:STANDARD
TZOFFSETFROM:+0100
TZOFFSETTO:+0000
TZNAME:GMT
DTSTART:20251026T010000
END:STANDARD
END:VTIMEZONE
BEGIN:VEVENT
DTSTART;TZID=Europe/London:20240503T193000
DTEND;TZID=Europe/London:20240503T213000
DTSTAMP:20260426T000820
CREATED:20231121T130445Z
LAST-MODIFIED:20231127T182002Z
UID:5125-1714764600-1714771800@theherontheatre.com
SUMMARY:A Haunting In Venice
DESCRIPTION:Films\nI Swear \nRunning Time: 2h 00m \nRated: 15 \nFriday 7th August 2026\, 7:30pm \nTourette’s Syndrome was little known when John Davidson was growing up with the condition in 1980’s Scotland. \nHis swearing and odd facial tics were seen as aggressive and he was severely bullied. Unable to understand him\, his parents separated. His life was transformed when he was taken in by Dolly (Maxine Peake)\, the mother of a friend\, becoming an activist for others with Tourette’s. 								\n				\n					\n		\n				\n			\n						\n				\n																														\n				\n					\n		\n					\n		\n				\n						\n					\n			\n						\n				\n									Ticket Prices								\n				\n					\n		\n					\n		\n				\n						\n					\n			\n						\n				\n									Standard: £7.50								\n				\n					\n		\n				\n			\n						\n				\n									Member: £6.00								\n				\n					\n		\n				\n			\n						\n				\n									Children (-18yrs): £6.00								\n				\n					\n		\n					\n		\n				\n						\n					\n			\n						\n				\n									\n					\n						\n									Get Your Tickets Here
URL:https://theherontheatre.com/whats-on/a-haunting-in-venice/
LOCATION:The Heron Theatre\, Stanley Street\, Milnthorpe\, Cumbria\, LA7 7AS\, United Kingdom
CATEGORIES:Films,Upcoming Events
ATTACH;FMTTYPE=image/jpeg:https://theherontheatre.com/wp-content/uploads/2023/11/Haunting-In-Venice-Cover.jpg
ORGANIZER;CN="The Heron Management Committee":MAILTO:info@theherontheatre.com
END:VEVENT
BEGIN:VEVENT
DTSTART;TZID=Europe/London:20240531T193000
DTEND;TZID=Europe/London:20240531T223000
DTSTAMP:20260426T000820
CREATED:20231121T131330Z
LAST-MODIFIED:20240317T091951Z
UID:5136-1717183800-1717194600@theherontheatre.com
SUMMARY:Oppenheimer
DESCRIPTION:Films\nI Swear \nRunning Time: 2h 00m \nRated: 15 \nFriday 7th August 2026\, 7:30pm \nTourette’s Syndrome was little known when John Davidson was growing up with the condition in 1980’s Scotland. \nHis swearing and odd facial tics were seen as aggressive and he was severely bullied. Unable to understand him\, his parents separated. His life was transformed when he was taken in by Dolly (Maxine Peake)\, the mother of a friend\, becoming an activist for others with Tourette’s. 								\n				\n					\n		\n				\n			\n						\n				\n																														\n				\n					\n		\n					\n		\n				\n						\n					\n			\n						\n				\n									Ticket Prices								\n				\n					\n		\n					\n		\n				\n						\n					\n			\n						\n				\n									Standard: £7.50								\n				\n					\n		\n				\n			\n						\n				\n									Member: £6.00								\n				\n					\n		\n				\n			\n						\n				\n									Children (-18yrs): £6.00								\n				\n					\n		\n					\n		\n				\n						\n					\n			\n						\n				\n									\n					\n						\n									Get Your Tickets Here
URL:https://theherontheatre.com/whats-on/oppenheimer/
LOCATION:The Heron Theatre\, Stanley Street\, Milnthorpe\, Cumbria\, LA7 7AS\, United Kingdom
CATEGORIES:Films,Upcoming Events
ATTACH;FMTTYPE=image/jpeg:https://theherontheatre.com/wp-content/uploads/2023/11/Oppenheimer-Cover.jpg
ORGANIZER;CN="The Heron Management Committee":MAILTO:info@theherontheatre.com
END:VEVENT
END:VCALENDAR